Package: Spectra Version: 1.19.4 Command: /home/rapidbuild/bbs-3.22-bioc-rapid/R/bin/R CMD INSTALL Spectra StartedAt: 2025-07-23 06:20:17 -0400 (Wed, 23 Jul 2025) EndedAt: 2025-07-23 06:20:28 -0400 (Wed, 23 Jul 2025) EllapsedTime: 11.2 seconds RetCode: 0 Status: OK