Package: Spectra Version: 1.19.4 Command: /home/rapidbuild/bbs-3.22-bioc-rapid/R/bin/R CMD build --keep-empty-dirs --no-resave-data Spectra StartedAt: 2025-07-23 07:25:48 -0400 (Wed, 23 Jul 2025) EndedAt: 2025-07-23 07:26:28 -0400 (Wed, 23 Jul 2025) EllapsedTime: 39.6 seconds RetCode: 0 Status: OK PackageFile: Spectra_1.19.4.tar.gz PackageFileSize: 1.8 MiB