Package: SingleR Version: 2.11.3 Command: /home/rapidbuild/bbs-3.22-bioc-rapid/R/bin/R CMD check --install=check:SingleR.install-out.txt --library=/home/rapidbuild/bbs-3.22-bioc-rapid/R/site-library --timings SingleR_2.11.3.tar.gz StartedAt: 2025-07-22 09:13:28 -0400 (Tue, 22 Jul 2025) EndedAt: 2025-07-22 09:17:24 -0400 (Tue, 22 Jul 2025) EllapsedTime: 236.2 seconds RetCode: 0 Status: OK CheckDir: SingleR.Rcheck Warnings: 0