Package: SingleR Version: 2.11.3 Maintainer: Aaron Lun MaintainerEmail: infinite.monkeys.with.keyboards at gmail.com git_url: https://git.bioconductor.org/packages/SingleR git_branch: devel git_last_commit: 0823a7b git_last_commit_date: 2025-07-14 02:16:42 -0400 (Mon, 14 Jul 2025)