Package: SingleCellExperiment Version: 1.31.1 Command: /home/rapidbuild/bbs-3.22-bioc-rapid/R/bin/R CMD INSTALL SingleCellExperiment StartedAt: 2025-07-13 06:15:20 -0400 (Sun, 13 Jul 2025) EndedAt: 2025-07-13 06:15:41 -0400 (Sun, 13 Jul 2025) EllapsedTime: 21.6 seconds RetCode: 0 Status: OK