Package: SPIA Version: 2.61.0 Command: /home/rapidbuild/bbs-3.22-bioc-rapid/R/bin/R CMD INSTALL SPIA StartedAt: 2025-07-15 06:11:09 -0400 (Tue, 15 Jul 2025) EndedAt: 2025-07-15 06:11:14 -0400 (Tue, 15 Jul 2025) EllapsedTime: 4.3 seconds RetCode: 0 Status: OK