Package: SPIA Version: 2.61.0 Command: /home/rapidbuild/bbs-3.22-bioc-rapid/R/bin/R CMD build --keep-empty-dirs --no-resave-data SPIA StartedAt: 2025-07-15 07:32:58 -0400 (Tue, 15 Jul 2025) EndedAt: 2025-07-15 07:36:13 -0400 (Tue, 15 Jul 2025) EllapsedTime: 194.8 seconds RetCode: 0 Status: OK PackageFile: SPIA_2.61.0.tar.gz PackageFileSize: 2.549 MiB