Package: Rgraphviz Version: 2.53.0 Command: /home/rapidbuild/bbs-3.22-bioc-rapid/R/bin/R CMD INSTALL Rgraphviz StartedAt: 2025-07-17 06:11:23 -0400 (Thu, 17 Jul 2025) EndedAt: 2025-07-17 06:12:56 -0400 (Thu, 17 Jul 2025) EllapsedTime: 92.4 seconds RetCode: 0 Status: OK