Package: Rgraphviz Version: 2.53.0 Command: /home/rapidbuild/bbs-3.22-bioc-rapid/R/bin/R CMD check --install=check:Rgraphviz.install-out.txt --library=/home/rapidbuild/bbs-3.22-bioc-rapid/R/site-library --timings Rgraphviz_2.53.0.tar.gz StartedAt: 2025-07-18 09:07:25 -0400 (Fri, 18 Jul 2025) EndedAt: 2025-07-18 09:07:58 -0400 (Fri, 18 Jul 2025) EllapsedTime: 33.0 seconds RetCode: 0 Status: WARNINGS CheckDir: Rgraphviz.Rcheck Warnings: 2