Package: Rdisop Version: 1.69.2 Command: /home/rapidbuild/bbs-3.22-bioc-rapid/R/bin/R CMD INSTALL Rdisop StartedAt: 2025-07-14 06:06:59 -0400 (Mon, 14 Jul 2025) EndedAt: 2025-07-14 06:07:27 -0400 (Mon, 14 Jul 2025) EllapsedTime: 28.0 seconds RetCode: 0 Status: OK