Package: Rdisop Version: 1.69.2 Command: /home/rapidbuild/bbs-3.22-bioc-rapid/R/bin/R CMD build --keep-empty-dirs --no-resave-data Rdisop StartedAt: 2025-07-14 07:22:12 -0400 (Mon, 14 Jul 2025) EndedAt: 2025-07-14 07:22:44 -0400 (Mon, 14 Jul 2025) EllapsedTime: 31.3 seconds RetCode: 0 Status: OK PackageFile: Rdisop_1.69.2.tar.gz PackageFileSize: 713.4 KiB