Package: RaggedExperiment Version: 1.33.7 Command: /home/rapidbuild/bbs-3.22-bioc-rapid/R/bin/R CMD INSTALL RaggedExperiment StartedAt: 2025-07-15 06:14:35 -0400 (Tue, 15 Jul 2025) EndedAt: 2025-07-15 06:14:58 -0400 (Tue, 15 Jul 2025) EllapsedTime: 22.1 seconds RetCode: 0 Status: OK