Package: ROC Version: 1.85.0 Command: /home/rapidbuild/bbs-3.22-bioc-rapid/R/bin/R CMD INSTALL ROC StartedAt: 2025-07-25 06:08:56 -0400 (Fri, 25 Jul 2025) EndedAt: 2025-07-25 06:08:58 -0400 (Fri, 25 Jul 2025) EllapsedTime: 2.0 seconds RetCode: 0 Status: OK