Package: QFeatures Version: 1.19.2 Command: /home/rapidbuild/bbs-3.22-bioc-rapid/R/bin/R CMD INSTALL QFeatures StartedAt: 2025-07-23 06:21:54 -0400 (Wed, 23 Jul 2025) EndedAt: 2025-07-23 06:22:18 -0400 (Wed, 23 Jul 2025) EllapsedTime: 23.6 seconds RetCode: 0 Status: OK