Package: QFeatures Version: 1.19.2 Command: /home/rapidbuild/bbs-3.22-bioc-rapid/R/bin/R CMD check --install=check:QFeatures.install-out.txt --library=/home/rapidbuild/bbs-3.22-bioc-rapid/R/site-library --timings QFeatures_1.19.2.tar.gz StartedAt: 2025-07-23 08:50:36 -0400 (Wed, 23 Jul 2025) EndedAt: 2025-07-23 08:56:51 -0400 (Wed, 23 Jul 2025) EllapsedTime: 374.8 seconds RetCode: 0 Status: OK CheckDir: QFeatures.Rcheck Warnings: 0