Package: QFeatures Version: 1.19.2 Command: /home/rapidbuild/bbs-3.22-bioc-rapid/R/bin/R CMD build --keep-empty-dirs --no-resave-data QFeatures StartedAt: 2025-07-23 07:11:22 -0400 (Wed, 23 Jul 2025) EndedAt: 2025-07-23 07:12:29 -0400 (Wed, 23 Jul 2025) EllapsedTime: 66.2 seconds RetCode: 0 Status: OK PackageFile: QFeatures_1.19.2.tar.gz PackageFileSize: 5.505 MiB