Package: MultiAssayExperiment Version: 1.35.3 Command: /home/rapidbuild/bbs-3.22-bioc-rapid/R/bin/R CMD INSTALL MultiAssayExperiment StartedAt: 2025-07-15 06:22:31 -0400 (Tue, 15 Jul 2025) EndedAt: 2025-07-15 06:22:59 -0400 (Tue, 15 Jul 2025) EllapsedTime: 27.6 seconds RetCode: 0 Status: OK