Package: MultiAssayExperiment Version: 1.35.3 Command: /home/rapidbuild/bbs-3.22-bioc-rapid/R/bin/R CMD build --keep-empty-dirs --no-resave-data MultiAssayExperiment StartedAt: 2025-07-15 07:11:56 -0400 (Tue, 15 Jul 2025) EndedAt: 2025-07-15 07:12:51 -0400 (Tue, 15 Jul 2025) EllapsedTime: 54.9 seconds RetCode: 0 Status: OK PackageFile: MultiAssayExperiment_1.35.3.tar.gz PackageFileSize: 1.318 MiB