Package: MsExperiment Version: 1.11.1 Command: /home/rapidbuild/bbs-3.22-bioc-rapid/R/bin/R CMD INSTALL MsExperiment StartedAt: 2025-07-22 06:24:58 -0400 (Tue, 22 Jul 2025) EndedAt: 2025-07-22 06:25:23 -0400 (Tue, 22 Jul 2025) EllapsedTime: 25.0 seconds RetCode: 0 Status: OK