Package: MsExperiment Version: 1.11.1 Command: /home/rapidbuild/bbs-3.22-bioc-rapid/R/bin/R CMD check --install=check:MsExperiment.install-out.txt --library=/home/rapidbuild/bbs-3.22-bioc-rapid/R/site-library --timings MsExperiment_1.11.1.tar.gz StartedAt: 2025-07-22 08:47:02 -0400 (Tue, 22 Jul 2025) EndedAt: 2025-07-22 08:50:30 -0400 (Tue, 22 Jul 2025) EllapsedTime: 207.6 seconds RetCode: 0 Status: OK CheckDir: MsExperiment.Rcheck Warnings: 0