Package: MsExperiment Version: 1.11.1 Command: /home/rapidbuild/bbs-3.22-bioc-rapid/R/bin/R CMD build --keep-empty-dirs --no-resave-data MsExperiment StartedAt: 2025-07-22 07:08:19 -0400 (Tue, 22 Jul 2025) EndedAt: 2025-07-22 07:09:11 -0400 (Tue, 22 Jul 2025) EllapsedTime: 52.3 seconds RetCode: 0 Status: OK PackageFile: MsExperiment_1.11.1.tar.gz PackageFileSize: 1.917 MiB