Package: MassSpecWavelet Version: 1.75.1 Command: /home/rapidbuild/bbs-3.22-bioc-rapid/R/bin/R CMD check --install=check:MassSpecWavelet.install-out.txt --library=/home/rapidbuild/bbs-3.22-bioc-rapid/R/site-library --timings MassSpecWavelet_1.75.1.tar.gz StartedAt: 2025-07-18 08:45:30 -0400 (Fri, 18 Jul 2025) EndedAt: 2025-07-18 08:46:23 -0400 (Fri, 18 Jul 2025) EllapsedTime: 53.0 seconds RetCode: 0 Status: OK CheckDir: MassSpecWavelet.Rcheck Warnings: 0