Package: MassSpecWavelet Version: 1.75.1 Command: /home/rapidbuild/bbs-3.22-bioc-rapid/R/bin/R CMD build --keep-empty-dirs --no-resave-data MassSpecWavelet StartedAt: 2025-07-17 07:07:36 -0400 (Thu, 17 Jul 2025) EndedAt: 2025-07-17 07:08:15 -0400 (Thu, 17 Jul 2025) EllapsedTime: 39.0 seconds RetCode: 0 Status: OK PackageFile: MassSpecWavelet_1.75.1.tar.gz PackageFileSize: 2.171 MiB