Package: MLInterfaces Version: 1.89.0 Command: /home/rapidbuild/bbs-3.22-bioc-rapid/R/bin/R CMD INSTALL MLInterfaces StartedAt: 2025-06-28 12:19:27 -0400 (Sat, 28 Jun 2025) EndedAt: 2025-06-28 12:19:52 -0400 (Sat, 28 Jun 2025) EllapsedTime: 24.9 seconds RetCode: 0 Status: OK