Package: MLInterfaces Version: 1.89.0 Command: /home/rapidbuild/bbs-3.22-bioc-rapid/R/bin/R CMD build --keep-empty-dirs --no-resave-data MLInterfaces StartedAt: 2025-06-28 13:07:25 -0400 (Sat, 28 Jun 2025) EndedAt: 2025-06-28 13:08:18 -0400 (Sat, 28 Jun 2025) EllapsedTime: 53.0 seconds RetCode: 0 Status: OK PackageFile: MLInterfaces_1.89.0.tar.gz PackageFileSize: 2.799 MiB