Package: KEGGREST Version: 1.49.1 Command: /home/rapidbuild/bbs-3.22-bioc-rapid/R/bin/R CMD INSTALL KEGGREST StartedAt: 2025-07-21 06:13:24 -0400 (Mon, 21 Jul 2025) EndedAt: 2025-07-21 06:13:31 -0400 (Mon, 21 Jul 2025) EllapsedTime: 7.4 seconds RetCode: 0 Status: OK