Package: KEGGREST Version: 1.49.1 Command: /home/rapidbuild/bbs-3.22-bioc-rapid/R/bin/R CMD check --install=check:KEGGREST.install-out.txt --library=/home/rapidbuild/bbs-3.22-bioc-rapid/R/site-library --timings KEGGREST_1.49.1.tar.gz StartedAt: 2025-07-21 08:43:25 -0400 (Mon, 21 Jul 2025) EndedAt: 2025-07-21 08:46:25 -0400 (Mon, 21 Jul 2025) EllapsedTime: 180.3 seconds RetCode: 0 Status: OK CheckDir: KEGGREST.Rcheck Warnings: 0