Package: IRanges Version: 2.43.0 Command: /home/rapidbuild/bbs-3.22-bioc-rapid/R/bin/R CMD INSTALL IRanges StartedAt: 2025-07-21 06:11:39 -0400 (Mon, 21 Jul 2025) EndedAt: 2025-07-21 06:12:21 -0400 (Mon, 21 Jul 2025) EllapsedTime: 42.4 seconds RetCode: 0 Status: OK