Package: IRanges Version: 2.43.0 Command: /home/rapidbuild/bbs-3.22-bioc-rapid/R/bin/R CMD check --install=check:IRanges.install-out.txt --library=/home/rapidbuild/bbs-3.22-bioc-rapid/R/site-library --timings IRanges_2.43.0.tar.gz StartedAt: 2025-07-22 08:38:21 -0400 (Tue, 22 Jul 2025) EndedAt: 2025-07-22 08:40:30 -0400 (Tue, 22 Jul 2025) EllapsedTime: 129.6 seconds RetCode: 0 Status: WARNINGS CheckDir: IRanges.Rcheck Warnings: 4