Package: IRanges Version: 2.43.0 Command: /home/rapidbuild/bbs-3.22-bioc-rapid/R/bin/R CMD build --keep-empty-dirs --no-resave-data IRanges StartedAt: 2025-07-21 07:01:25 -0400 (Mon, 21 Jul 2025) EndedAt: 2025-07-21 07:02:20 -0400 (Mon, 21 Jul 2025) EllapsedTime: 54.3 seconds RetCode: 0 Status: OK PackageFile: IRanges_2.43.0.tar.gz PackageFileSize: 471.7 KiB