Package: IHW Version: 1.37.0 Command: /home/rapidbuild/bbs-3.22-bioc-rapid/R/bin/R CMD INSTALL IHW StartedAt: 2025-07-23 06:11:10 -0400 (Wed, 23 Jul 2025) EndedAt: 2025-07-23 06:11:13 -0400 (Wed, 23 Jul 2025) EllapsedTime: 3.0 seconds RetCode: 0 Status: OK