Package: IHW Version: 1.37.0 Command: /home/rapidbuild/bbs-3.22-bioc-rapid/R/bin/R CMD check --install=check:IHW.install-out.txt --library=/home/rapidbuild/bbs-3.22-bioc-rapid/R/site-library --timings IHW_1.37.0.tar.gz StartedAt: 2025-07-23 08:31:49 -0400 (Wed, 23 Jul 2025) EndedAt: 2025-07-23 08:33:17 -0400 (Wed, 23 Jul 2025) EllapsedTime: 88.6 seconds RetCode: 0 Status: OK CheckDir: IHW.Rcheck Warnings: 0