Package: IHW Version: 1.37.0 Command: /home/rapidbuild/bbs-3.22-bioc-rapid/R/bin/R CMD build --keep-empty-dirs --no-resave-data IHW StartedAt: 2025-07-23 06:58:08 -0400 (Wed, 23 Jul 2025) EndedAt: 2025-07-23 06:59:19 -0400 (Wed, 23 Jul 2025) EllapsedTime: 70.2 seconds RetCode: 0 Status: OK PackageFile: IHW_1.37.0.tar.gz PackageFileSize: 4.074 MiB