Package: HubPub Version: 1.17.1 Command: /home/rapidbuild/bbs-3.22-bioc-rapid/R/bin/R CMD INSTALL HubPub StartedAt: 2025-07-25 06:22:13 -0400 (Fri, 25 Jul 2025) EndedAt: 2025-07-25 06:22:16 -0400 (Fri, 25 Jul 2025) EllapsedTime: 3.0 seconds RetCode: 0 Status: OK