Package: HubPub Version: 1.17.1 Command: /home/rapidbuild/bbs-3.22-bioc-rapid/R/bin/R CMD build --keep-empty-dirs --no-resave-data HubPub StartedAt: 2025-07-25 07:02:25 -0400 (Fri, 25 Jul 2025) EndedAt: 2025-07-25 07:02:53 -0400 (Fri, 25 Jul 2025) EllapsedTime: 28.3 seconds RetCode: 0 Status: OK PackageFile: HubPub_1.17.1.tar.gz PackageFileSize: 549.5 KiB