Package: GenomeInfoDb Version: 1.45.9 Command: /home/rapidbuild/bbs-3.22-bioc-rapid/R/bin/R CMD INSTALL GenomeInfoDb StartedAt: 2025-07-23 06:12:16 -0400 (Wed, 23 Jul 2025) EndedAt: 2025-07-23 06:12:24 -0400 (Wed, 23 Jul 2025) EllapsedTime: 7.4 seconds RetCode: 0 Status: OK