Package: GenomeInfoDb Version: 1.45.9 Command: /home/rapidbuild/bbs-3.22-bioc-rapid/R/bin/R CMD check --install=check:GenomeInfoDb.install-out.txt --library=/home/rapidbuild/bbs-3.22-bioc-rapid/R/site-library --timings GenomeInfoDb_1.45.9.tar.gz StartedAt: 2025-07-23 08:17:43 -0400 (Wed, 23 Jul 2025) EndedAt: 2025-07-23 08:25:09 -0400 (Wed, 23 Jul 2025) EllapsedTime: 446.2 seconds RetCode: 0 Status: OK CheckDir: GenomeInfoDb.Rcheck Warnings: 0