Package: GenomeInfoDb Version: 1.45.9 Command: /home/rapidbuild/bbs-3.22-bioc-rapid/R/bin/R CMD build --keep-empty-dirs --no-resave-data GenomeInfoDb StartedAt: 2025-07-23 06:49:59 -0400 (Wed, 23 Jul 2025) EndedAt: 2025-07-23 06:50:21 -0400 (Wed, 23 Jul 2025) EllapsedTime: 21.3 seconds RetCode: 0 Status: OK PackageFile: GenomeInfoDb_1.45.9.tar.gz PackageFileSize: 3.473 MiB