Package: GOstats Version: 2.75.0 Command: /home/rapidbuild/bbs-3.22-bioc-rapid/R/bin/R CMD INSTALL GOstats StartedAt: 2025-07-25 06:16:58 -0400 (Fri, 25 Jul 2025) EndedAt: 2025-07-25 06:17:18 -0400 (Fri, 25 Jul 2025) EllapsedTime: 19.2 seconds RetCode: 0 Status: OK