Package: GOstats Version: 2.75.0 Command: /home/rapidbuild/bbs-3.22-bioc-rapid/R/bin/R CMD build --keep-empty-dirs --no-resave-data GOstats StartedAt: 2025-07-25 06:56:42 -0400 (Fri, 25 Jul 2025) EndedAt: 2025-07-25 07:05:53 -0400 (Fri, 25 Jul 2025) EllapsedTime: 551.4 seconds RetCode: 0 Status: OK PackageFile: GOstats_2.75.0.tar.gz PackageFileSize: 3.539 MiB