Package: GOSemSim Version: 2.35.0 Command: /home/rapidbuild/bbs-3.22-bioc-rapid/R/bin/R CMD INSTALL GOSemSim StartedAt: 2025-07-15 06:15:10 -0400 (Tue, 15 Jul 2025) EndedAt: 2025-07-15 06:15:29 -0400 (Tue, 15 Jul 2025) EllapsedTime: 18.6 seconds RetCode: 0 Status: OK