Package: ExperimentHubData Version: 1.35.0 Command: /home/rapidbuild/bbs-3.22-bioc-rapid/R/bin/R CMD INSTALL ExperimentHubData StartedAt: 2025-07-04 06:27:22 -0400 (Fri, 04 Jul 2025) EndedAt: 2025-07-04 06:27:55 -0400 (Fri, 04 Jul 2025) EllapsedTime: 32.6 seconds RetCode: 0 Status: OK