Package: ExperimentHubData Version: 1.35.0 Command: /home/rapidbuild/bbs-3.22-bioc-rapid/R/bin/R CMD build --keep-empty-dirs --no-resave-data ExperimentHubData StartedAt: 2025-07-05 06:47:39 -0400 (Sat, 05 Jul 2025) EndedAt: 2025-07-05 06:48:17 -0400 (Sat, 05 Jul 2025) EllapsedTime: 38.0 seconds RetCode: 0 Status: OK PackageFile: ExperimentHubData_1.35.0.tar.gz PackageFileSize: 222.9 KiB