Package: ExperimentHub Version: 2.99.5 Command: /home/rapidbuild/bbs-3.22-bioc-rapid/R/bin/R CMD build --keep-empty-dirs --no-resave-data ExperimentHub StartedAt: 2025-07-14 06:49:45 -0400 (Mon, 14 Jul 2025) EndedAt: 2025-07-14 06:50:10 -0400 (Mon, 14 Jul 2025) EllapsedTime: 25.0 seconds RetCode: 0 Status: OK PackageFile: ExperimentHub_2.99.5.tar.gz PackageFileSize: 490.1 KiB