Package: EnhancedVolcano Version: 1.27.0 Command: /home/rapidbuild/bbs-3.22-bioc-rapid/R/bin/R CMD check --install=check:EnhancedVolcano.install-out.txt --library=/home/rapidbuild/bbs-3.22-bioc-rapid/R/site-library --timings EnhancedVolcano_1.27.0.tar.gz StartedAt: 2025-07-23 08:05:30 -0400 (Wed, 23 Jul 2025) EndedAt: 2025-07-23 08:07:17 -0400 (Wed, 23 Jul 2025) EllapsedTime: 106.3 seconds RetCode: 0 Status: OK CheckDir: EnhancedVolcano.Rcheck Warnings: 0