Package: EnhancedVolcano Version: 1.27.0 Command: /home/rapidbuild/bbs-3.22-bioc-rapid/R/bin/R CMD build --keep-empty-dirs --no-resave-data EnhancedVolcano StartedAt: 2025-07-22 06:43:58 -0400 (Tue, 22 Jul 2025) EndedAt: 2025-07-22 06:45:10 -0400 (Tue, 22 Jul 2025) EllapsedTime: 71.9 seconds RetCode: 0 Status: OK PackageFile: EnhancedVolcano_1.27.0.tar.gz PackageFileSize: 9.418 MiB