Package: EDASeq Version: 2.43.0 Command: /home/rapidbuild/bbs-3.22-bioc-rapid/R/bin/R CMD INSTALL EDASeq StartedAt: 2025-07-17 06:26:16 -0400 (Thu, 17 Jul 2025) EndedAt: 2025-07-17 06:26:55 -0400 (Thu, 17 Jul 2025) EllapsedTime: 38.6 seconds RetCode: 0 Status: OK