Package: EBarrays Version: 2.73.0 Command: /home/rapidbuild/bbs-3.22-bioc-rapid/R/bin/R CMD INSTALL EBarrays StartedAt: 2025-06-28 12:12:02 -0400 (Sat, 28 Jun 2025) EndedAt: 2025-06-28 12:12:06 -0400 (Sat, 28 Jun 2025) EllapsedTime: 4.0 seconds RetCode: 0 Status: OK