Package: EBarrays Version: 2.73.0 Command: /home/rapidbuild/bbs-3.22-bioc-rapid/R/bin/R CMD build --keep-empty-dirs --no-resave-data EBarrays StartedAt: 2025-06-28 12:43:39 -0400 (Sat, 28 Jun 2025) EndedAt: 2025-06-28 12:43:52 -0400 (Sat, 28 Jun 2025) EllapsedTime: 13.3 seconds RetCode: 0 Status: OK PackageFile: EBarrays_2.73.0.tar.gz PackageFileSize: 1.039 MiB