Package: EBImage Version: 4.51.0 Command: /home/rapidbuild/bbs-3.22-bioc-rapid/R/bin/R CMD INSTALL EBImage StartedAt: 2025-07-03 06:13:45 -0400 (Thu, 03 Jul 2025) EndedAt: 2025-07-03 06:13:54 -0400 (Thu, 03 Jul 2025) EllapsedTime: 9.6 seconds RetCode: 0 Status: OK